BEGIN:VCALENDAR
VERSION:2.0
PRODID:-//100 jaar De Stijl ◆ Rechthoekig - ECPv4.5.8//NONSGML v1.0//EN
CALSCALE:GREGORIAN
METHOD:PUBLISH
X-WR-CALNAME:100 jaar De Stijl ◆ Rechthoekig
X-ORIGINAL-URL:http://rechthoekig.nl
X-WR-CALDESC:Events for 100 jaar De Stijl ◆ Rechthoekig
BEGIN:VEVENT
DTSTART;VALUE=DATE:20171029
DTEND;VALUE=DATE:20171030
DTSTAMP:20260423T112013
CREATED:20170111T124804Z
LAST-MODIFIED:20170111T125223Z
UID:945-1509242400-1509328799@rechthoekig.nl
SUMMARY:Sterfdag Antony Kok
DESCRIPTION:Sterfdag Antony Kok op 87 jarige leeftijd op 29 oktober 1969.\nGeboren als Antony Kok te Rotterdam op 18 april 1882. \n
URL:http://rechthoekig.nl/100jaardestijl/sterfdag-antony-kok/
CATEGORIES:Oktober,Verjaardagen
ATTACH;FMTTYPE=image/png:http://rechthoekig.nl/wp-content/uploads/Dood-Antony-Kok-Rechthoekig-100-jaar-De-Stijl.png
END:VEVENT
END:VCALENDAR